BEGIN:VCALENDAR
VERSION:2.0
PRODID:-//OHSU-PSU School of Public Health - ECPv6.15.20//NONSGML v1.0//EN
CALSCALE:GREGORIAN
METHOD:PUBLISH
X-WR-CALNAME:OHSU-PSU School of Public Health
X-ORIGINAL-URL:https://ohsu-psu-sph.org
X-WR-CALDESC:Events for OHSU-PSU School of Public Health
REFRESH-INTERVAL;VALUE=DURATION:PT1H
X-Robots-Tag:noindex
X-PUBLISHED-TTL:PT1H
BEGIN:VTIMEZONE
TZID:America/Los_Angeles
BEGIN:DAYLIGHT
TZOFFSETFROM:-0800
TZOFFSETTO:-0700
TZNAME:PDT
DTSTART:20240310T100000
END:DAYLIGHT
BEGIN:STANDARD
TZOFFSETFROM:-0700
TZOFFSETTO:-0800
TZNAME:PST
DTSTART:20241103T090000
END:STANDARD
BEGIN:DAYLIGHT
TZOFFSETFROM:-0800
TZOFFSETTO:-0700
TZNAME:PDT
DTSTART:20250309T100000
END:DAYLIGHT
BEGIN:STANDARD
TZOFFSETFROM:-0700
TZOFFSETTO:-0800
TZNAME:PST
DTSTART:20251102T090000
END:STANDARD
BEGIN:DAYLIGHT
TZOFFSETFROM:-0800
TZOFFSETTO:-0700
TZNAME:PDT
DTSTART:20260308T100000
END:DAYLIGHT
BEGIN:STANDARD
TZOFFSETFROM:-0700
TZOFFSETTO:-0800
TZNAME:PST
DTSTART:20261101T090000
END:STANDARD
END:VTIMEZONE
BEGIN:VEVENT
DTSTART;TZID=America/Los_Angeles:20251208T120000
DTEND;TZID=America/Los_Angeles:20251208T130000
DTSTAMP:20260422T014229
CREATED:20251118T225745Z
LAST-MODIFIED:20251118T225745Z
UID:10001551-1765195200-1765198800@ohsu-psu-sph.org
SUMMARY:OHSU Student Health Services: Hot Cocoa and Pasteries
DESCRIPTION:Join us for food\, fun\, and resources related to Student Health\, the Library\, Accommodations\, CAP Basic Needs\, and more!  \nWednesday December 3rd:\n12:00 – 1:00pm PST at RLSB 2S017 and 2S021 \nMonday December 8th:\n12:00 – 1:00pm PST at the School of Nursing 1st Floor
URL:https://ohsu-psu-sph.org/event/ohsu-student-health-services-hot-cocoa-and-pasteries/2025-12-08/
LOCATION:OHSU Robertson Collaborative Life Sciences Building\, 2730 S Moody Ave\, Portland\, 97201\, United States
CATEGORIES:OHSU
END:VEVENT
END:VCALENDAR