BEGIN:VCALENDAR
VERSION:2.0
PRODID:-//OHSU-PSU School of Public Health - ECPv6.15.20//NONSGML v1.0//EN
CALSCALE:GREGORIAN
METHOD:PUBLISH
X-WR-CALNAME:OHSU-PSU School of Public Health
X-ORIGINAL-URL:https://ohsu-psu-sph.org
X-WR-CALDESC:Events for OHSU-PSU School of Public Health
REFRESH-INTERVAL;VALUE=DURATION:PT1H
X-Robots-Tag:noindex
X-PUBLISHED-TTL:PT1H
BEGIN:VTIMEZONE
TZID:America/Los_Angeles
BEGIN:DAYLIGHT
TZOFFSETFROM:-0800
TZOFFSETTO:-0700
TZNAME:PDT
DTSTART:20250309T100000
END:DAYLIGHT
BEGIN:STANDARD
TZOFFSETFROM:-0700
TZOFFSETTO:-0800
TZNAME:PST
DTSTART:20251102T090000
END:STANDARD
BEGIN:DAYLIGHT
TZOFFSETFROM:-0800
TZOFFSETTO:-0700
TZNAME:PDT
DTSTART:20260308T100000
END:DAYLIGHT
BEGIN:STANDARD
TZOFFSETFROM:-0700
TZOFFSETTO:-0800
TZNAME:PST
DTSTART:20261101T090000
END:STANDARD
BEGIN:DAYLIGHT
TZOFFSETFROM:-0800
TZOFFSETTO:-0700
TZNAME:PDT
DTSTART:20270314T100000
END:DAYLIGHT
BEGIN:STANDARD
TZOFFSETFROM:-0700
TZOFFSETTO:-0800
TZNAME:PST
DTSTART:20271107T090000
END:STANDARD
END:VTIMEZONE
BEGIN:VEVENT
DTSTART;TZID=America/Los_Angeles:20260130T090000
DTEND;TZID=America/Los_Angeles:20260130T130000
DTSTAMP:20260422T012113
CREATED:20260108T003039Z
LAST-MODIFIED:20260108T003039Z
UID:10001606-1769763600-1769778000@ohsu-psu-sph.org
SUMMARY:Teaching at PSU: Early Career Faculty Workshop
DESCRIPTION:New faculty workshop for teaching at Portland State University\nJoin fellow new and early-career faculty at PSU for this introductory workshop to teaching at PSU. This session will introduce essential teaching strategies\, provide insights into campus support services\, and create opportunities to connect with other early career faculty members. It’s a chance to ask questions\, exchange ideas\, and build relationships to support your teaching journey at PSU. \nThings to know: \n\nThis event is in person in the Vanport Building on PSU’s campus\nPlease bring your laptop so that you can participate in the workshop activities!\nLunch will be served as part of this event.\n\nWe look forward to seeing you there! Please register by January 22nd to ensure an accurate head count for lunch. \nREGISTER FOR EVENT
URL:https://ohsu-psu-sph.org/event/teaching-at-psu-early-career-faculty-workshop/
LOCATION:Vanport 515\, 1850 SW Fifth Avenue\, Portland\, OR\, 97201\, United States
CATEGORIES:Lecture & Webinars,PSU
END:VEVENT
BEGIN:VEVENT
DTSTART;TZID=America/Los_Angeles:20260130T120000
DTEND;TZID=America/Los_Angeles:20260130T130000
DTSTAMP:20260422T012113
CREATED:20251204T181305Z
LAST-MODIFIED:20251204T181305Z
UID:10001560-1769774400-1769778000@ohsu-psu-sph.org
SUMMARY:Kickstart Your Writing With AI
DESCRIPTION:Staring at a blank page? This workshop will teach you how to use generative AI tools (such as ChatGPT) to get started with your writing\, ethically and effectively!  \nThis workshop is designed for students in any program. The learning outcomes include:  \n\nWriting effective prompts for GenAI tools \nFinding trustworthy background information with GenAI \nUsing GenAI in the early stages of the writing process to create outlines\, break down complex tasks\, and more \nAvoiding plagiarism and citing GenAI appropriately \nUsing GenAI in accordance with journal policies\n\nThis workshop will be recorded\, and the recording will be shared with all registered attendees after the session. If you cannot make the workshop date and time\, you are welcome to register in order to receive a copy of the recording.  \nREGISTER FOR EVENT
URL:https://ohsu-psu-sph.org/event/kickstart-your-writing-with-ai/2026-01-30/
LOCATION:VIRTUAL\, Portland\, OR\, United States
CATEGORIES:OHSU
END:VEVENT
BEGIN:VEVENT
DTSTART;TZID=America/Los_Angeles:20260130T120000
DTEND;TZID=America/Los_Angeles:20260130T133000
DTSTAMP:20260422T012113
CREATED:20260107T192537Z
LAST-MODIFIED:20260113T010737Z
UID:10001599-1769774400-1769779800@ohsu-psu-sph.org
SUMMARY:SPH Admission Informational Session
DESCRIPTION:As you prepare your graduate application\, we invite you to join one of our upcoming Virtual Information Sessions. \nThese sessions are a chance to connect with our admissions team\, ask questions about the SOPHAS application\, and receive helpful guidance as you work toward the March 15 deadline. If you’re polishing your materials or want reassurance before submitting\, this is a great opportunity to get personalized support. \nRSVP TO INFO SESSION \nZoom link: https://pdx.zoom.us/j/82985744956
URL:https://ohsu-psu-sph.org/event/sph-admission-informational-session/2026-01-30/
LOCATION:VIRTUAL\, Portland\, OR\, United States
CATEGORIES:Admissions
END:VEVENT
END:VCALENDAR