BEGIN:VCALENDAR
VERSION:2.0
PRODID:-//OHSU-PSU School of Public Health - ECPv6.15.20//NONSGML v1.0//EN
CALSCALE:GREGORIAN
METHOD:PUBLISH
X-WR-CALNAME:OHSU-PSU School of Public Health
X-ORIGINAL-URL:https://ohsu-psu-sph.org
X-WR-CALDESC:Events for OHSU-PSU School of Public Health
REFRESH-INTERVAL;VALUE=DURATION:PT1H
X-Robots-Tag:noindex
X-PUBLISHED-TTL:PT1H
BEGIN:VTIMEZONE
TZID:America/Los_Angeles
BEGIN:DAYLIGHT
TZOFFSETFROM:-0800
TZOFFSETTO:-0700
TZNAME:PDT
DTSTART:20250309T100000
END:DAYLIGHT
BEGIN:STANDARD
TZOFFSETFROM:-0700
TZOFFSETTO:-0800
TZNAME:PST
DTSTART:20251102T090000
END:STANDARD
BEGIN:DAYLIGHT
TZOFFSETFROM:-0800
TZOFFSETTO:-0700
TZNAME:PDT
DTSTART:20260308T100000
END:DAYLIGHT
BEGIN:STANDARD
TZOFFSETFROM:-0700
TZOFFSETTO:-0800
TZNAME:PST
DTSTART:20261101T090000
END:STANDARD
BEGIN:DAYLIGHT
TZOFFSETFROM:-0800
TZOFFSETTO:-0700
TZNAME:PDT
DTSTART:20270314T100000
END:DAYLIGHT
BEGIN:STANDARD
TZOFFSETFROM:-0700
TZOFFSETTO:-0800
TZNAME:PST
DTSTART:20271107T090000
END:STANDARD
END:VTIMEZONE
BEGIN:VEVENT
DTSTART;TZID=America/Los_Angeles:20260225T120000
DTEND;TZID=America/Los_Angeles:20260225T130000
DTSTAMP:20260419T235521
CREATED:20251204T181305Z
LAST-MODIFIED:20251204T181305Z
UID:10001561-1772020800-1772024400@ohsu-psu-sph.org
SUMMARY:Kickstart Your Writing With AI
DESCRIPTION:Staring at a blank page? This workshop will teach you how to use generative AI tools (such as ChatGPT) to get started with your writing\, ethically and effectively!  \nThis workshop is designed for students in any program. The learning outcomes include:  \n\nWriting effective prompts for GenAI tools \nFinding trustworthy background information with GenAI \nUsing GenAI in the early stages of the writing process to create outlines\, break down complex tasks\, and more \nAvoiding plagiarism and citing GenAI appropriately \nUsing GenAI in accordance with journal policies\n\nThis workshop will be recorded\, and the recording will be shared with all registered attendees after the session. If you cannot make the workshop date and time\, you are welcome to register in order to receive a copy of the recording.  \nREGISTER FOR EVENT
URL:https://ohsu-psu-sph.org/event/kickstart-your-writing-with-ai/2026-02-25/
LOCATION:VIRTUAL\, Portland\, OR\, United States
CATEGORIES:OHSU
END:VEVENT
BEGIN:VEVENT
DTSTART;TZID=America/Los_Angeles:20260225T120000
DTEND;TZID=America/Los_Angeles:20260225T133000
DTSTAMP:20260419T235521
CREATED:20260112T222849Z
LAST-MODIFIED:20260112T222849Z
UID:10001615-1772020800-1772026200@ohsu-psu-sph.org
SUMMARY:Mentoring Up For Trainees
DESCRIPTION:Mentoring is collaborative. Ideally\, mentees and mentors engage as partners through reciprocal activities such as planning\, acting\, reflecting\, questioning\, and problem solving. Mentee success is defined as mentees having gained 1) personal and professional competencies necessary to define their research goals\, 2) experience for that career\, and 3) the ability and opportunity to progress toward that chosen career goal. \nThe content of each session in this curriculum is designed to address some of the challenges and concerns that mentees might encounter throughout their career. In this mentoring up series\, mentees will develop the knowledge and skills to proactively and effectively address these challenges and navigate their mentoring relationships and career progression. Topics addressed include: Maintaining Effective Communication\, Aligning Expectations\, and Seeking Professional Development \nVIRTUAL TRAINING (FEBRUARY 23-27\, 2026) \n\nMONDAY\, FEBRUARY 23\, 12:00-1:30PM: INTRO + MAINTAINING EFFECTIVE COMMUNICATION\nWEDNESDAY\, FEBRUARY 25\, 12:00-1:30PM: ALIGNING EXPECTATIONS\nFRIDAY\, FEBRUARY 27\, 12:00-1:30PM: SEEKING PROFESSIONAL DEVELOPMENT\n\nREGISTER FOR EVENT
URL:https://ohsu-psu-sph.org/event/mentoring-up-for-trainees/2026-02-25/
LOCATION:VIRTUAL\, Portland\, OR\, United States
CATEGORIES:Professional Development,Student Success Center
END:VEVENT
BEGIN:VEVENT
DTSTART;TZID=America/Los_Angeles:20260225T120000
DTEND;TZID=America/Los_Angeles:20260225T143000
DTSTAMP:20260419T235521
CREATED:20260123T002046Z
LAST-MODIFIED:20260123T002046Z
UID:10001635-1772020800-1772029800@ohsu-psu-sph.org
SUMMARY:Center for Learner Diversity & Inclusion: Black History Month Event
DESCRIPTION:AUD Great Hall\, 220\n3286 SW Research Drive\, Portland\, OR 97239 \nMore details to come
URL:https://ohsu-psu-sph.org/event/center-for-learner-diversity-inclusion-black-history-month-event/
LOCATION:AUD Great Hall\, 3286 SW Research Drive\, Portland\, 97239\, United States
CATEGORIES:OHSU,Social Justice
ORGANIZER;CN="OHSU Center for Diversity and Inclusion":MAILTO:cdi@ohsu.edu
END:VEVENT
BEGIN:VEVENT
DTSTART;TZID=America/Los_Angeles:20260225T123000
DTEND;TZID=America/Los_Angeles:20260225T133000
DTSTAMP:20260419T235521
CREATED:20260106T003856Z
LAST-MODIFIED:20260106T004153Z
UID:10001587-1772022600-1772026200@ohsu-psu-sph.org
SUMMARY:Financial Starter Pack Workshops
DESCRIPTION:We are excited to introduce a new workshop series focused on building essential financial skills to support students’ long-term success. Hosted by PSU Financial Wellness Center. \n\nBudgeting: February 10th\, 11th* – Learn how to create and manage a personal budget\, track expenses\, and make informed spending decisions.\nSaving: February 24th\, 25th* – Explore practical saving strategies\, including emergency funds and early retirement planning\, and learn tools to build and maintain healthy saving habits.\nUnderstanding Credit: March 3rd\, 4th* – Gain an overview of credit scores\, credit reports\, and responsible credit use\, including common pitfalls to avoid.\nStudent Loan Repayment: March 10th\, 11th – Review repayment options\, loan servicers\, and strategies for managing student loan debt after graduation.\n\nVirtual sessions are held on Zoom at 12:40-1:25PM. You will receive a link the day of the session in the email you used to sign up.\nIn person sessions will be held in FMH Trillium-101 (conference room across the hall from the FWC) They will also be held at 12:40PM-1:25PM.  \nRegister For Events
URL:https://ohsu-psu-sph.org/event/financial-starter-pack-workshops/2026-02-25/
LOCATION:Fariborz Maseeh Hall\, Fariborz Maseeh Hall\, 1855 SW Broadway\, Portland\, 97201\, United States
CATEGORIES:PSU
END:VEVENT
END:VCALENDAR