BEGIN:VCALENDAR
VERSION:2.0
PRODID:-//OHSU-PSU School of Public Health - ECPv6.15.20//NONSGML v1.0//EN
CALSCALE:GREGORIAN
METHOD:PUBLISH
X-WR-CALNAME:OHSU-PSU School of Public Health
X-ORIGINAL-URL:https://ohsu-psu-sph.org
X-WR-CALDESC:Events for OHSU-PSU School of Public Health
REFRESH-INTERVAL;VALUE=DURATION:PT1H
X-Robots-Tag:noindex
X-PUBLISHED-TTL:PT1H
BEGIN:VTIMEZONE
TZID:America/Los_Angeles
BEGIN:DAYLIGHT
TZOFFSETFROM:-0800
TZOFFSETTO:-0700
TZNAME:PDT
DTSTART:20250309T100000
END:DAYLIGHT
BEGIN:STANDARD
TZOFFSETFROM:-0700
TZOFFSETTO:-0800
TZNAME:PST
DTSTART:20251102T090000
END:STANDARD
BEGIN:DAYLIGHT
TZOFFSETFROM:-0800
TZOFFSETTO:-0700
TZNAME:PDT
DTSTART:20260308T100000
END:DAYLIGHT
BEGIN:STANDARD
TZOFFSETFROM:-0700
TZOFFSETTO:-0800
TZNAME:PST
DTSTART:20261101T090000
END:STANDARD
BEGIN:DAYLIGHT
TZOFFSETFROM:-0800
TZOFFSETTO:-0700
TZNAME:PDT
DTSTART:20270314T100000
END:DAYLIGHT
BEGIN:STANDARD
TZOFFSETFROM:-0700
TZOFFSETTO:-0800
TZNAME:PST
DTSTART:20271107T090000
END:STANDARD
END:VTIMEZONE
BEGIN:VEVENT
DTSTART;TZID=America/Los_Angeles:20260421T100000
DTEND;TZID=America/Los_Angeles:20260421T140000
DTSTAMP:20260421T013409
CREATED:20260107T195645Z
LAST-MODIFIED:20260107T195645Z
UID:10001604-1776765600-1776780000@ohsu-psu-sph.org
SUMMARY:OSU Health Professions Fair
DESCRIPTION:Join the OHSU-PSU School of Public Health at the 2026 OSU Health Professions Fair in Corvallis\, OR.  \nAt the annual Health Professions Fair\, students can connect with professional schools and programs with specializations in the healthcare industry. The Fair is a wonderful opportunity to learn about graduate education and careers in health care. \nParticipating schools represent health professions programs in medicine\, osteopathy\, dentistry\, pharmacy\, chiropractic medicine\, nursing\, physical therapy\, public health\, health management and administration\, medical physics\, biomedical sciences and several others. \nREGISTER FOR EVENT
URL:https://ohsu-psu-sph.org/event/osu-health-professions-fair/
LOCATION:OSU Dixon Recreation Center Lower Gym\, DxRC\, 425 SW 26th St\, Corvallis\, 97331\, United States
CATEGORIES:Admissions
END:VEVENT
BEGIN:VEVENT
DTSTART;TZID=America/Los_Angeles:20260421T113000
DTEND;TZID=America/Los_Angeles:20260421T140000
DTSTAMP:20260421T013409
CREATED:20260316T213544Z
LAST-MODIFIED:20260316T213544Z
UID:10001701-1776771000-1776780000@ohsu-psu-sph.org
SUMMARY:PSU Healthcare Industry Day
DESCRIPTION:Calling all students interested in pursuing careers within the healthcare industry! Identify jobs\, internships\, and volunteer opportunities; practice networking; and connect face-to-face with recruiters at our first Healthcare Industry Day! At this event\, you’ll learn about potential job\, internship\, and volunteer opportunities that may align with your interests and career goals. Take advantage of this opportunity to connect with healthcare employers from a diverse range of organizations and spark professional connections! \nLocation: Room Smith Memorial Student Union Room 338 \nREGISTER FOR EVENT
URL:https://ohsu-psu-sph.org/event/psu-healthcare-industry-day/
LOCATION:Portland State University – Smith Memorial Student Union\, 1825 SW Broadway\, Portland\, OR\, United States
CATEGORIES:Professional Development,PSU
END:VEVENT
END:VCALENDAR