BEGIN:VCALENDAR
VERSION:2.0
PRODID:-//OHSU-PSU School of Public Health - ECPv6.15.20//NONSGML v1.0//EN
CALSCALE:GREGORIAN
METHOD:PUBLISH
X-WR-CALNAME:OHSU-PSU School of Public Health
X-ORIGINAL-URL:https://ohsu-psu-sph.org
X-WR-CALDESC:Events for OHSU-PSU School of Public Health
REFRESH-INTERVAL;VALUE=DURATION:PT1H
X-Robots-Tag:noindex
X-PUBLISHED-TTL:PT1H
BEGIN:VTIMEZONE
TZID:America/Los_Angeles
BEGIN:DAYLIGHT
TZOFFSETFROM:-0800
TZOFFSETTO:-0700
TZNAME:PDT
DTSTART:20250309T100000
END:DAYLIGHT
BEGIN:STANDARD
TZOFFSETFROM:-0700
TZOFFSETTO:-0800
TZNAME:PST
DTSTART:20251102T090000
END:STANDARD
BEGIN:DAYLIGHT
TZOFFSETFROM:-0800
TZOFFSETTO:-0700
TZNAME:PDT
DTSTART:20260308T100000
END:DAYLIGHT
BEGIN:STANDARD
TZOFFSETFROM:-0700
TZOFFSETTO:-0800
TZNAME:PST
DTSTART:20261101T090000
END:STANDARD
BEGIN:DAYLIGHT
TZOFFSETFROM:-0800
TZOFFSETTO:-0700
TZNAME:PDT
DTSTART:20270314T100000
END:DAYLIGHT
BEGIN:STANDARD
TZOFFSETFROM:-0700
TZOFFSETTO:-0800
TZNAME:PST
DTSTART:20271107T090000
END:STANDARD
END:VTIMEZONE
BEGIN:VEVENT
DTSTART;VALUE=DATE:20260422
DTEND;VALUE=DATE:20260425
DTSTAMP:20260423T043719
CREATED:20260305T004459Z
LAST-MODIFIED:20260305T004548Z
UID:10001690-1776816000-1777075199@ohsu-psu-sph.org
SUMMARY:2026 Annual SOPHE Conference
DESCRIPTION:The SOPHE Annual Conference unites 900+ leading voices in school health and public health education\, promotion and practice. Join us to share evidence-based practices\, build new skills\, and stay current with cutting-edge tools and technologies—while earning CHES/MCHES credits. \nBest of all\, you’ll return with a renewed sense of community and fresh inspiration! \nTracks: \n\nLeadership\, Mentoring\, and Training the Next Workforce \nSocial Justice and Health Equity\nHealth Communications \nProgram Planning and Evaluation\nPolicy and Advocacy\n\n \nWho Should Attend: \n\nHealth education specialists in diverse practice settings\nUniversity faculty and researchers in public health education\nCommunity-based health education practitioners and advocates\nStudents preparing for careers in public health\nPublic health program administrators and policy leaders\n\nREGISTER FOR EVENT
URL:https://ohsu-psu-sph.org/event/2026-annual-sophe-conference/
LOCATION:Hilton Hotel\, 921 SW 6th Ave\, Portland\, 97204\, United States
CATEGORIES:Admissions,Conference
END:VEVENT
BEGIN:VEVENT
DTSTART;TZID=America/Los_Angeles:20260423T110000
DTEND;TZID=America/Los_Angeles:20260423T150000
DTSTAMP:20260423T043719
CREATED:20260316T214158Z
LAST-MODIFIED:20260316T214158Z
UID:10001703-1776942000-1776956400@ohsu-psu-sph.org
SUMMARY:PSU All Majors & Accounting Spring Fair 2026
DESCRIPTION:Identify jobs and internships\, practice networking\, and connect face-to-face with recruiters at the All Majors & Accounting Fair! At the fair\, you’ll learn about potential job and internship opportunities that may align with your interests and career goals. Take advantage of this opportunity to connect with employers from diverse industries and spark professional connections! \nDATE: Thursday\, April 23rd 2026\nTIME: 11:00 am to 3:00 pm\nLOCATION: PSU Viking Pavilion (Ground Floor) \nREGISTER FOR EVENT
URL:https://ohsu-psu-sph.org/event/psu-all-majors-accounting-spring-fair-2026/
LOCATION:PSU Viking Pavilion\, 930 SW Hall St.\, Portland\, 97201\, United States
CATEGORIES:Professional Development,PSU
END:VEVENT
BEGIN:VEVENT
DTSTART;TZID=America/Los_Angeles:20260423T170000
DTEND;TZID=America/Los_Angeles:20260423T190000
DTSTAMP:20260423T043719
CREATED:20260413T173650Z
LAST-MODIFIED:20260413T173650Z
UID:10001741-1776963600-1776970800@ohsu-psu-sph.org
SUMMARY:Organizing and Advocating For Us All Reflections from the Social Mission Alliance Health Justice Fellows
DESCRIPTION:The Social Mission Alliance is hosting on April 23rd at 8pm ET (5pm our time) called “Organizing and Advocating For Us All Reflections from the Social Mission Alliance Health Justice Fellows.” During the session the health justice fellows will reflect on their efforts advancing initiatives as part of the institutional organizing arm of the For Us All campaign. During the webinar they will discuss their projects\, how the fellowship and the campaign supported them\, and how others can get involved in work like this as part of the social mission alliance. This will help students conceptualize how you can practice community organizing AND be a healthcare professional at the same time\, plus SMA will offer tangible ways learners can participate in their nation-wide advocacy campaign fighting for transformative health justice through social accountability within health professions training institutions.  \nREGISTER FOR EVENT
URL:https://ohsu-psu-sph.org/event/organizing-and-advocating-for-us-all-reflections-from-the-social-mission-alliance-health-justice-fellows/
LOCATION:VIRTUAL\, Portland\, OR\, United States
CATEGORIES:Lecture & Webinars
END:VEVENT
BEGIN:VEVENT
DTSTART;TZID=America/Los_Angeles:20260423T180000
DTEND;TZID=America/Los_Angeles:20260423T190000
DTSTAMP:20260423T043719
CREATED:20260422T234540Z
LAST-MODIFIED:20260422T234540Z
UID:10001748-1776967200-1776970800@ohsu-psu-sph.org
SUMMARY:Pizza and PPOP night!
DESCRIPTION:Join us for a hands-on community service event where OHSU students will assemble hundreds of first aid kits for Portland People’s Outreach Project (PPOP). \nThese kits will be distributed at PPOP’s regular community sites to support people in need through their harm reduction work across Portland. This interdisciplinary event is a meaningful way to support community health while connecting with students from across OHSU. In past years\, students from nursing\, medicine\, pharmacy\, and dentistry have joined us\, and this year we’re excited to welcome students from public health as well. Attendees can expect a brief introduction to PPOP\, hands-on kit assembly\, and time to connect with other students while enjoying free pizza. \nDate: Thursday\, April 23 at 6:00 PM\nLocation: RLSB Health Justice Co-Op Room (4th floor\, right beside the graduate study area) \nREGISTER FOR EVENT
URL:https://ohsu-psu-sph.org/event/pizza-and-ppop-night/
LOCATION:OHSU Robertson Collaborative Life Sciences Building\, 2730 S Moody Ave\, Portland\, 97201\, United States
CATEGORIES:OHSU
END:VEVENT
END:VCALENDAR