BEGIN:VCALENDAR
VERSION:2.0
PRODID:-//OHSU-PSU School of Public Health - ECPv6.15.20//NONSGML v1.0//EN
CALSCALE:GREGORIAN
METHOD:PUBLISH
X-WR-CALNAME:OHSU-PSU School of Public Health
X-ORIGINAL-URL:https://ohsu-psu-sph.org
X-WR-CALDESC:Events for OHSU-PSU School of Public Health
REFRESH-INTERVAL;VALUE=DURATION:PT1H
X-Robots-Tag:noindex
X-PUBLISHED-TTL:PT1H
BEGIN:VTIMEZONE
TZID:America/Los_Angeles
BEGIN:DAYLIGHT
TZOFFSETFROM:-0800
TZOFFSETTO:-0700
TZNAME:PDT
DTSTART:20250309T100000
END:DAYLIGHT
BEGIN:STANDARD
TZOFFSETFROM:-0700
TZOFFSETTO:-0800
TZNAME:PST
DTSTART:20251102T090000
END:STANDARD
BEGIN:DAYLIGHT
TZOFFSETFROM:-0800
TZOFFSETTO:-0700
TZNAME:PDT
DTSTART:20260308T100000
END:DAYLIGHT
BEGIN:STANDARD
TZOFFSETFROM:-0700
TZOFFSETTO:-0800
TZNAME:PST
DTSTART:20261101T090000
END:STANDARD
BEGIN:DAYLIGHT
TZOFFSETFROM:-0800
TZOFFSETTO:-0700
TZNAME:PDT
DTSTART:20270314T100000
END:DAYLIGHT
BEGIN:STANDARD
TZOFFSETFROM:-0700
TZOFFSETTO:-0800
TZNAME:PST
DTSTART:20271107T090000
END:STANDARD
END:VTIMEZONE
BEGIN:VEVENT
DTSTART;TZID=America/Los_Angeles:20260507T120000
DTEND;TZID=America/Los_Angeles:20260507T130000
DTSTAMP:20260420T230224
CREATED:20260407T185454Z
LAST-MODIFIED:20260407T185454Z
UID:10001729-1778155200-1778158800@ohsu-psu-sph.org
SUMMARY:Kickstart Your Writing With AI
DESCRIPTION:Stuck on a blank page? Learn how to use AI tools to brainstorm\, outline\, and jump start your writing in a smart\, ethical way. In this workshop\, you’ll practice writing effective prompts\, using GenAI to find trustworthy background information\, and breaking down complex assignments. You’ll also learn how to avoid plagiarism\, cite GenAI correctly\, and follow journal or publisher guidelines. \nREGISTER FOR EVENT – April 22nd \nREGISTER FOR EVENT – May 7th
URL:https://ohsu-psu-sph.org/event/kickstart-your-writing-with-ai-2/2026-05-07/
LOCATION:VIRTUAL\, Portland\, OR\, United States
CATEGORIES:OHSU
END:VEVENT
BEGIN:VEVENT
DTSTART;TZID=America/Los_Angeles:20260507T170000
DTEND;TZID=America/Los_Angeles:20260507T190000
DTSTAMP:20260420T230224
CREATED:20260409T173405Z
LAST-MODIFIED:20260409T173405Z
UID:10001740-1778173200-1778180400@ohsu-psu-sph.org
SUMMARY:Journey to OHSU Student Mixer and Recruitment Fair
DESCRIPTION:Are you an undergraduate student exploring a future career in the health professions? Join us for an evening designed specifically for undergrads who want to learn more about OHSU’s academic programs and training pathways. \nYou’ll be able to: \n\nConnect with OHSU faculty\, students and staff\nLearn what it’s really like to be part of the OHSU community\nHear from current students during a live panel\nDiscover degree pathways and career options\nAsk your questions in small‑group breakout sessions\n\nFeatured academic programs include nursing (graduate and undergraduate)\, public health\, dentistry\, medical physics\, nutrition\, radiation therapy\, medicine (M.D.)\, pharmacy\, research (Ph.D.)\, and more. \nPizza + refreshments included. Bring your curiosity — we’ll bring the rest. \nREGISTER FOR EVENT \nLocation: Knight Cancer Research Building\, 2720 S.W. Moody Ave.\, Portland
URL:https://ohsu-psu-sph.org/event/journey-to-ohsu-student-mixer-and-recruitment-fair/
LOCATION:OHSU Knight Cancer Research Building\, 2720 S Moody Ave\, Portland\, United States
CATEGORIES:OHSU
END:VEVENT
BEGIN:VEVENT
DTSTART;TZID=America/Los_Angeles:20260507T170000
DTEND;TZID=America/Los_Angeles:20260507T200000
DTSTAMP:20260420T230224
CREATED:20260226T223459Z
LAST-MODIFIED:20260226T223459Z
UID:10001684-1778173200-1778184000@ohsu-psu-sph.org
SUMMARY:Journey to OHSU
DESCRIPTION:Student mixer & recruitment Fair
URL:https://ohsu-psu-sph.org/event/journey-to-ohsu/
LOCATION:OHSU Knight Cancer Research Building\, 2720 S Moody Ave\, Portland\, United States
CATEGORIES:Admissions
END:VEVENT
END:VCALENDAR