BEGIN:VCALENDAR
VERSION:2.0
PRODID:-//OHSU-PSU School of Public Health - ECPv6.15.20//NONSGML v1.0//EN
CALSCALE:GREGORIAN
METHOD:PUBLISH
X-WR-CALNAME:OHSU-PSU School of Public Health
X-ORIGINAL-URL:https://ohsu-psu-sph.org
X-WR-CALDESC:Events for OHSU-PSU School of Public Health
REFRESH-INTERVAL;VALUE=DURATION:PT1H
X-Robots-Tag:noindex
X-PUBLISHED-TTL:PT1H
BEGIN:VTIMEZONE
TZID:America/Los_Angeles
BEGIN:DAYLIGHT
TZOFFSETFROM:-0800
TZOFFSETTO:-0700
TZNAME:PDT
DTSTART:20250309T100000
END:DAYLIGHT
BEGIN:STANDARD
TZOFFSETFROM:-0700
TZOFFSETTO:-0800
TZNAME:PST
DTSTART:20251102T090000
END:STANDARD
BEGIN:DAYLIGHT
TZOFFSETFROM:-0800
TZOFFSETTO:-0700
TZNAME:PDT
DTSTART:20260308T100000
END:DAYLIGHT
BEGIN:STANDARD
TZOFFSETFROM:-0700
TZOFFSETTO:-0800
TZNAME:PST
DTSTART:20261101T090000
END:STANDARD
BEGIN:DAYLIGHT
TZOFFSETFROM:-0800
TZOFFSETTO:-0700
TZNAME:PDT
DTSTART:20270314T100000
END:DAYLIGHT
BEGIN:STANDARD
TZOFFSETFROM:-0700
TZOFFSETTO:-0800
TZNAME:PST
DTSTART:20271107T090000
END:STANDARD
END:VTIMEZONE
BEGIN:VEVENT
DTSTART;TZID=America/Los_Angeles:20260204T173000
DTEND;TZID=America/Los_Angeles:20260204T190000
DTSTAMP:20260425T191520
CREATED:20260105T235043Z
LAST-MODIFIED:20260105T235240Z
UID:10001579-1770226200-1770231600@ohsu-psu-sph.org
SUMMARY:Graduate Student Community Building As Prevention: A Dinner Series
DESCRIPTION:Join CAP and CLDI for a free dinner\, connection\, and individual and community advocacy every first Wednesday of the month!  \nStudents are welcome to come and go as needed – this form just gives us a better idea on how much food to get and dietary needs. Please reach out to CapSupport@OHSU.EDU if you have any questions! \nREGISTER FOR EVENT \n\nWednesday – Jan 7th: RLSB 3A001\nWednesday – Feb 4th: RLSB 3A001\nWednesday – March 4th: RLSB 3A001\nWednesday – April 1st: RLSB 3A002\nWednesday – May 6th: RLSB 3A002
URL:https://ohsu-psu-sph.org/event/graduate-student-community-building-as-prevention-a-dinner-series/2026-02-04/
LOCATION:OHSU Robertson Collaborative Life Sciences Building\, 2730 S Moody Ave\, Portland\, 97201\, United States
CATEGORIES:OHSU
END:VEVENT
BEGIN:VEVENT
DTSTART;TZID=America/Los_Angeles:20260205T090000
DTEND;TZID=America/Los_Angeles:20260205T100000
DTSTAMP:20260425T191520
CREATED:20260124T000813Z
LAST-MODIFIED:20260124T000813Z
UID:10001636-1770282000-1770285600@ohsu-psu-sph.org
SUMMARY:ASPPH Webinar:  Collaborating for Impact: Academic-Practice Partnerships in Action through the Academic and Practice Linkages in Public Health (APLPH) Caucus
DESCRIPTION:Join our ASPPH Presents webinar\, Collaborating for Impact: Academic-Practice Partnerships in Action through the Academic and Practice Linkages in Public Health (APLPH) Caucus\, on February 5 from 12:00–1:00 PM ET\, and learn how schools and programs of public health\, along with their practice partners\, can collaborate to identify practice-informed topics\, develop strong abstracts\, and navigate the abstract submission process for the APLPH Caucus at the American Public Health Association (APHA) Annual Meeting. \nThe session will also explore effective approaches to supporting practice partner participation\, including travel and funding considerations\, and will share real-world examples of successful academic–practice collaboration. \nParticipants will gain practical guidance on abstract development\, insights into year-round engagement with the APLPH Caucus\, and strategies to strengthen or launch partnerships that advance applied public health work. The webinar will be moderated by Kaitlin Tager\, MPH\, CHES\, with speakers representing both academic and practice perspectives. \nAs a reminder\, ASPPH will also host ASPPH Presents: Building Your Career at the Intersection of Climate and Health on January 28 from 1:00–2:00 PM ET. We encourage members to register and attend both upcoming webinars to engage with timely topics shaping the public health workforce. \nREGISTER FOR EVENT
URL:https://ohsu-psu-sph.org/event/aspph-webinar-collaborating-for-impact-academic-practice-partnerships-in-action-through-the-academic-and-practice-linkages-in-public-health-aplph-caucus/
LOCATION:VIRTUAL\, Portland\, OR\, United States
CATEGORIES:Lecture & Webinars
END:VEVENT
BEGIN:VEVENT
DTSTART;TZID=America/Los_Angeles:20260205T123000
DTEND;TZID=America/Los_Angeles:20260205T133000
DTSTAMP:20260425T191520
CREATED:20260112T235602Z
LAST-MODIFIED:20260112T235602Z
UID:10001623-1770294600-1770298200@ohsu-psu-sph.org
SUMMARY:FAFSA Workshops hosted by the PSU Financial Wellness Center
DESCRIPTION:This year\, eligibility deadlines for programs like Tuition-Free Degree will be earlier than in previous years\, so submitting early is essential for students to maximize their financial aid eligibility. Fill out the 2026-2027 FAFSA or ORSAA with help! \nWorkshop Dates: \n\nWednesday January 14th\, 2026 (Virtual)\nThursday January\, 15th 2026 (In Person)\nTuesday January 20th\, 2026 (In Person) (Spanish Translation Available)\nWednesday January 21st\, 2026 (Virtual) (Spanish Translation Available)\nWednesday January 28th\, 2026 (Virtual) (Spanish Translation Available)\nThursday January 29th\, 2026 (In Person) (Spanish Translation Available)\nThursday February 5th\, 2026 (Virtual)\nTuesday February 17th\, 2026 (In Person)\nWednesday February 18th\, 2026 (Virtual)\n\nSIGN UP FOR WORKSHOPS
URL:https://ohsu-psu-sph.org/event/fafsa-workshops-hosted-by-the-psu-financial-wellness-center/2026-02-05/
LOCATION:VIRTUAL\, Portland\, OR\, United States
CATEGORIES:PSU,Student Success Center
END:VEVENT
BEGIN:VEVENT
DTSTART;TZID=America/Los_Angeles:20260206T120000
DTEND;TZID=America/Los_Angeles:20260206T133000
DTSTAMP:20260425T191520
CREATED:20260107T192537Z
LAST-MODIFIED:20260113T010737Z
UID:10001600-1770379200-1770384600@ohsu-psu-sph.org
SUMMARY:SPH Admission Informational Session
DESCRIPTION:As you prepare your graduate application\, we invite you to join one of our upcoming Virtual Information Sessions. \nThese sessions are a chance to connect with our admissions team\, ask questions about the SOPHAS application\, and receive helpful guidance as you work toward the March 15 deadline. If you’re polishing your materials or want reassurance before submitting\, this is a great opportunity to get personalized support. \nRSVP TO INFO SESSION \nZoom link: https://pdx.zoom.us/j/82985744956
URL:https://ohsu-psu-sph.org/event/sph-admission-informational-session/2026-02-06/
LOCATION:VIRTUAL\, Portland\, OR\, United States
CATEGORIES:Admissions
END:VEVENT
BEGIN:VEVENT
DTSTART;TZID=America/Los_Angeles:20260206T130000
DTEND;TZID=America/Los_Angeles:20260206T140000
DTSTAMP:20260425T191521
CREATED:20260128T194524Z
LAST-MODIFIED:20260128T194524Z
UID:10001647-1770382800-1770386400@ohsu-psu-sph.org
SUMMARY:PSU Faculty-Led: Mexico Travel Abroad Info Session
DESCRIPTION:Advancing Indigenous Health Equity Through Food Sovereignty\, Activism and Healing\nThis two-week immersive program in Oaxaca\, Mexico invites students to explore Indigenous health equity through land-based learning\, community engagement\, and traditional healing practices. In partnership with Spanish House MX\, participants will learn from Indigenous knowledge holders\, traditional ecological practitioners\, food sovereignty leaders\, and community activists working to advance cultural preservation and environmental stewardship. Through experiential workshops\, archaeological site visits\, and hands-on cultural activities\, students will examine the deep interconnections between land\, identity\, wellness\, and justice in Oaxacan Indigenous communities. \nThe curriculum weaves together public health\, Indigenous studies\, environmental justice\, and decolonizing methodologies. Students will participate in temazcal (traditional sweat-lodge) ceremonies\, medicinal plant workshops\, cooking classes\, artisan craft sessions\, and guided visits to Monte Albán and regional cultural centers. Academic discussions and reflective practices—grounded in Indigenous values of balance\, community\, respect\, and relationality—encourage students to critically examine colonial histories and contemporary movements for Indigenous resurgence. \nParticipants are housed in centrally located hotels in Oaxaca’s historic center and travel via private transportation for all program activities. With daily breakfast\, local coordination\, bilingual staff\, and structured reflection sessions\, the program offers a supportive environment for deep cultural learning. By the end of the experience\, students will gain new insights into Indigenous health sovereignty and develop skills that support culturally responsive\, community-centered public health practice. \nZoom Link: https://pdx.zoom.us/j/84027427294 \nREGISTER FOR INFO SESSIONS
URL:https://ohsu-psu-sph.org/event/psu-faculty-led-mexico-travel-abroad-info-session/2026-02-06/
LOCATION:VIRTUAL\, Portland\, OR\, United States
CATEGORIES:Academic Calendar,PSU
END:VEVENT
BEGIN:VEVENT
DTSTART;TZID=America/Los_Angeles:20260208T100000
DTEND;TZID=America/Los_Angeles:20260208T130000
DTSTAMP:20260425T191521
CREATED:20260105T224728Z
LAST-MODIFIED:20260105T224751Z
UID:10001575-1770544800-1770555600@ohsu-psu-sph.org
SUMMARY:SPH Scholarship Work Party
DESCRIPTION:This collaborative workshop creates built-in accountability\, space to work on your applications\, and real-time help from staff. We’ll start with a brief overview of where to find reliable scholarship opportunities and how to prepare strong\, competitive applications\, including what reviewers are looking for. You’ll also get personalized support on application materials\, including feedback from staff on your personal statements\, short answers\, and more. Whether you’re just getting started or refining your final drafts\, this session will help you put your best foot forward. Yes\, snacks are provided! \nREGISTER FOR EVENT
URL:https://ohsu-psu-sph.org/event/sph-scholarship-work-party/
LOCATION:Vanport 262\, 1810 SW 5th Ave\, Portland\, 97201\, United States
CATEGORIES:Student Success Center
END:VEVENT
BEGIN:VEVENT
DTSTART;TZID=America/Los_Angeles:20260209T110000
DTEND;TZID=America/Los_Angeles:20260209T150000
DTSTAMP:20260425T191521
CREATED:20260107T194229Z
LAST-MODIFIED:20260107T194229Z
UID:10001603-1770634800-1770649200@ohsu-psu-sph.org
SUMMARY:Portland State Winter All Majors & Business Fair 2026
DESCRIPTION:Identify jobs and internships\, practice networking\, and connect face-to-face with recruiters at the Career & Internship Fair! At the fair\, you’ll learn about potential job and internship opportunities that may align with your interests and career goals. Take advantage of this opportunity to connect with employers from diverse industries and spark professional connections! \nREGISTER FOR EVENT
URL:https://ohsu-psu-sph.org/event/portland-state-winter-all-majors-business-fair-2026/
LOCATION:Viking Pavillion\, 930 SW Hall St\, Portland\, 97201\, United States
CATEGORIES:Admissions,Professional Development
END:VEVENT
BEGIN:VEVENT
DTSTART;TZID=America/Los_Angeles:20260209T130000
DTEND;TZID=America/Los_Angeles:20260209T140000
DTSTAMP:20260425T191521
CREATED:20260204T203906Z
LAST-MODIFIED:20260204T204027Z
UID:10001658-1770642000-1770645600@ohsu-psu-sph.org
SUMMARY:ICE and Mass Deportation - The View From History
DESCRIPTION:ONLINE: An Urgent Talk with Mae Ngai\, PhD\nLung Family Professor of Asian American Studies and History – Columbia University\, Bancroft Prize Winner \nWhere did Ice raids and mass deportation come from? From time to time\, our Center Sponsors urgent talks that bring clarity to scary and bewildering developments. This talk features the eminent historian of immigration\, Columbia’s Mae Ngai\, who will bring critical historical context to the current moment.  \nNgai is the author of several highly acclaimed books\, including Impossible Subjects: Illegal Aliens and the Making of Modern American and The Chinese Question: The Gold Rush and Global Politics. \nREGISTER FOR EVENT
URL:https://ohsu-psu-sph.org/event/ice-and-mass-deportation-the-view-from-history/
LOCATION:VIRTUAL\, Portland\, OR\, United States
CATEGORIES:Lecture & Webinars,Social Justice
END:VEVENT
END:VCALENDAR