BEGIN:VCALENDAR
VERSION:2.0
PRODID:-//OHSU-PSU School of Public Health - ECPv6.15.20//NONSGML v1.0//EN
CALSCALE:GREGORIAN
METHOD:PUBLISH
X-WR-CALNAME:OHSU-PSU School of Public Health
X-ORIGINAL-URL:https://ohsu-psu-sph.org
X-WR-CALDESC:Events for OHSU-PSU School of Public Health
REFRESH-INTERVAL;VALUE=DURATION:PT1H
X-Robots-Tag:noindex
X-PUBLISHED-TTL:PT1H
BEGIN:VTIMEZONE
TZID:America/Los_Angeles
BEGIN:DAYLIGHT
TZOFFSETFROM:-0800
TZOFFSETTO:-0700
TZNAME:PDT
DTSTART:20250309T100000
END:DAYLIGHT
BEGIN:STANDARD
TZOFFSETFROM:-0700
TZOFFSETTO:-0800
TZNAME:PST
DTSTART:20251102T090000
END:STANDARD
BEGIN:DAYLIGHT
TZOFFSETFROM:-0800
TZOFFSETTO:-0700
TZNAME:PDT
DTSTART:20260308T100000
END:DAYLIGHT
BEGIN:STANDARD
TZOFFSETFROM:-0700
TZOFFSETTO:-0800
TZNAME:PST
DTSTART:20261101T090000
END:STANDARD
BEGIN:DAYLIGHT
TZOFFSETFROM:-0800
TZOFFSETTO:-0700
TZNAME:PDT
DTSTART:20270314T100000
END:DAYLIGHT
BEGIN:STANDARD
TZOFFSETFROM:-0700
TZOFFSETTO:-0800
TZNAME:PST
DTSTART:20271107T090000
END:STANDARD
END:VTIMEZONE
BEGIN:VEVENT
DTSTART;TZID=America/Los_Angeles:20260430T110000
DTEND;TZID=America/Los_Angeles:20260430T120000
DTSTAMP:20260424T085216
CREATED:20260417T221247Z
LAST-MODIFIED:20260417T221247Z
UID:10001743-1777546800-1777550400@ohsu-psu-sph.org
SUMMARY:ASPPH Collaborating For Community Health: Emory's Farmworker Project Webinar
DESCRIPTION:Join an upcoming webinar highlighting innovative approaches to interprofessional education and collaborative practice on April 30\, 2026\, from 2:00–3:00 PM ET. Hosted by the Interprofessional Education Collaborative (IPEC) and the U.S. Public Health Service Commissioned Officers Foundation (COF)\, the session will feature the 2025 Excellence in Interprofessional Education Collaboration Award-winning team from Emory University\, including leaders from the Rollins School of Public Health. \nThe webinar will showcase Emory’s Farmworker Project\, which delivers free care to more than 2\,000 farmworkers and their families annually through community-based clinics\, while training students in real-world\, interprofessional practice. The discussion will highlight how cross-sector collaboration can address complex public health challenges while advancing workforce development and community engagement. \nRegistration is free\, and all are encouraged to attend. Participants will have the opportunity to learn from award-winning leaders\, reflect on best practices\, and consider how similar models may be applied within their own institutions. A recording will also be available\, ensuring continued access to these insights beyond the live session. \nREGISTER FOR EVENT
URL:https://ohsu-psu-sph.org/event/aspph-collaborating-for-community-health-emorys-farmworker-project-webinar/
LOCATION:VIRTUAL\, Portland\, OR\, United States
CATEGORIES:Lecture & Webinars
END:VEVENT
END:VCALENDAR