BEGIN:VCALENDAR
VERSION:2.0
PRODID:-//OHSU-PSU School of Public Health - ECPv6.15.20//NONSGML v1.0//EN
CALSCALE:GREGORIAN
METHOD:PUBLISH
X-WR-CALNAME:OHSU-PSU School of Public Health
X-ORIGINAL-URL:https://ohsu-psu-sph.org
X-WR-CALDESC:Events for OHSU-PSU School of Public Health
REFRESH-INTERVAL;VALUE=DURATION:PT1H
X-Robots-Tag:noindex
X-PUBLISHED-TTL:PT1H
BEGIN:VTIMEZONE
TZID:America/Los_Angeles
BEGIN:DAYLIGHT
TZOFFSETFROM:-0800
TZOFFSETTO:-0700
TZNAME:PDT
DTSTART:20240310T100000
END:DAYLIGHT
BEGIN:STANDARD
TZOFFSETFROM:-0700
TZOFFSETTO:-0800
TZNAME:PST
DTSTART:20241103T090000
END:STANDARD
BEGIN:DAYLIGHT
TZOFFSETFROM:-0800
TZOFFSETTO:-0700
TZNAME:PDT
DTSTART:20250309T100000
END:DAYLIGHT
BEGIN:STANDARD
TZOFFSETFROM:-0700
TZOFFSETTO:-0800
TZNAME:PST
DTSTART:20251102T090000
END:STANDARD
BEGIN:DAYLIGHT
TZOFFSETFROM:-0800
TZOFFSETTO:-0700
TZNAME:PDT
DTSTART:20260308T100000
END:DAYLIGHT
BEGIN:STANDARD
TZOFFSETFROM:-0700
TZOFFSETTO:-0800
TZNAME:PST
DTSTART:20261101T090000
END:STANDARD
END:VTIMEZONE
BEGIN:VEVENT
DTSTART;VALUE=DATE:20251201
DTEND;VALUE=DATE:20251202
DTSTAMP:20260419T173137
CREATED:20251023T223549Z
LAST-MODIFIED:20251023T223549Z
UID:10001524-1764547200-1764633599@ohsu-psu-sph.org
SUMMARY:SOPHAS Early Application Deadline
DESCRIPTION:OHSU-PSU SPH Graduate Program Fall 2026 Applications are open from August 15th\, 2025 – March 15th\, 2026. All documents are submitted to SOPHAS – www.sophas.org. \nDeadlines:\nDecember 1 – Early application deadline and decisions provided by early February\nFebruary 1 - Decisions provided by end of March\nMarch 15 - Final application deadline and decisions provided by end of April \nAll application materials\, including official transcripts from all schools attended and letters of recommendation\, must be received in SOPHAS before the deadline in order to be reviewed. Applications completed after March 15th will not be considered.
URL:https://ohsu-psu-sph.org/event/sophas-early-application-deadline/
LOCATION:OR
CATEGORIES:Admissions
END:VEVENT
BEGIN:VEVENT
DTSTART;TZID=America/Los_Angeles:20251201T080000
DTEND;TZID=America/Los_Angeles:20251205T170000
DTSTAMP:20260419T173137
CREATED:20251118T223911Z
LAST-MODIFIED:20251118T223911Z
UID:10001546-1764576000-1764954000@ohsu-psu-sph.org
SUMMARY:Student Success Center - Refuel for Finals
DESCRIPTION:Don’t forget to stop by the Student Success Center on the 6th floor of the Vanport Building to make a PB&J and pick up some snacks! Stop by anytime during building access hours from December 1st through December 5th. We look forward to seeing you!
URL:https://ohsu-psu-sph.org/event/student-success-center-refuel-for-finals/
LOCATION:Student Success Center – Vanport 6th Floor\, 1810 SW 5th Ave\, Portland\, OR\, 97201\, United States
CATEGORIES:Student Success Center
END:VEVENT
BEGIN:VEVENT
DTSTART;TZID=America/Los_Angeles:20251201T153000
DTEND;TZID=America/Los_Angeles:20251201T170000
DTSTAMP:20260419T173137
CREATED:20251111T001504Z
LAST-MODIFIED:20251111T174011Z
UID:10001537-1764603000-1764608400@ohsu-psu-sph.org
SUMMARY:Public Health and Health Care Systems Around the World: Student Symposium
DESCRIPTION:Explore how nations deliver\, finance and innovate in their public health and care systems \nLocation: Vanport Building\, 5th Floor\, Near Room 515 \n \nWHAT TO EXPECT: \n\nCase studies from Australia\, Chile\, China\, England\, Japan\, Netherlands\, Singapore\, and the Indian Health Service (US) and more\nComparative perspectives on universal vs market-based systems\nInteractive discussion with students presenters\n\nWho Should Attend: Students\, Researchers\, Faculty\, Health Professionals – All are Invited! \nPresented by HSMP 5/674 and PHE 350 –enrolled students. Contact kconte@pdx.edu \nLight snacks will be provided \nREGISTER FOR EVENT – Register by November 21st.
URL:https://ohsu-psu-sph.org/event/public-health-and-health-care-systems-around-the-world-student-symposium/
LOCATION:Vanport 515\, 1850 SW Fifth Avenue\, Portland\, OR\, 97201\, United States
CATEGORIES:Lecture & Webinars
END:VEVENT
BEGIN:VEVENT
DTSTART;TZID=America/Los_Angeles:20251202T110000
DTEND;TZID=America/Los_Angeles:20251202T123000
DTSTAMP:20260419T173137
CREATED:20251125T174326Z
LAST-MODIFIED:20251125T174326Z
UID:10001552-1764673200-1764678600@ohsu-psu-sph.org
SUMMARY:Navigating a Job Offer & Beyond
DESCRIPTION:Congratulations! You got a job offer. Now what? This workshop will provide research tips\, salary negotiation strategies\, and high-impact practices that you can use before and after accepting a job offer.  \nLocation: Fariborz Maseeh Hall (FMH)\, Room 342H \nREGISTER FOR EVENT
URL:https://ohsu-psu-sph.org/event/navigating-a-job-offer-beyond/
LOCATION:Fariborz Maseeh Hall\, Fariborz Maseeh Hall\, 1855 SW Broadway\, Portland\, 97201\, United States
CATEGORIES:Professional Development,PSU
END:VEVENT
BEGIN:VEVENT
DTSTART;TZID=America/Los_Angeles:20251203T120000
DTEND;TZID=America/Los_Angeles:20251203T130000
DTSTAMP:20260419T173137
CREATED:20251118T225745Z
LAST-MODIFIED:20251118T225745Z
UID:10001550-1764763200-1764766800@ohsu-psu-sph.org
SUMMARY:OHSU Student Health Services: Hot Cocoa and Pasteries
DESCRIPTION:Join us for food\, fun\, and resources related to Student Health\, the Library\, Accommodations\, CAP Basic Needs\, and more!  \nWednesday December 3rd:\n12:00 – 1:00pm PST at RLSB 2S017 and 2S021 \nMonday December 8th:\n12:00 – 1:00pm PST at the School of Nursing 1st Floor
URL:https://ohsu-psu-sph.org/event/ohsu-student-health-services-hot-cocoa-and-pasteries/2025-12-03/
LOCATION:OHSU Robertson Collaborative Life Sciences Building\, 2730 S Moody Ave\, Portland\, 97201\, United States
CATEGORIES:OHSU
END:VEVENT
BEGIN:VEVENT
DTSTART;TZID=America/Los_Angeles:20251203T123000
DTEND;TZID=America/Los_Angeles:20251203T133000
DTSTAMP:20260419T173137
CREATED:20251111T190344Z
LAST-MODIFIED:20251111T190344Z
UID:10001539-1764765000-1764768600@ohsu-psu-sph.org
SUMMARY:PSU Credit & Debt Workshop Registration
DESCRIPTION:The Financial Wellness Center is partnering with Financial Beginnings to present this interactive workshop to gain a clear understanding of how credit\, debt\, and repayment impact your financial health. Learn how to assess your current financial situation\, manage debt effectively\, and develop a realistic plan for improving your credit and overall financial well-being. This session will equip you with practical tools and strategies to make confident\, informed financial decisions for a stronger future.
URL:https://ohsu-psu-sph.org/event/psu-credit-debt-workshop-registration/2025-12-03/
LOCATION:Fariborz Maseeh Hall\, Fariborz Maseeh Hall\, 1855 SW Broadway\, Portland\, 97201\, United States
CATEGORIES:PSU
END:VEVENT
BEGIN:VEVENT
DTSTART;TZID=America/Los_Angeles:20251203T123000
DTEND;TZID=America/Los_Angeles:20251203T133000
DTSTAMP:20260419T173137
CREATED:20251114T211457Z
LAST-MODIFIED:20251114T211457Z
UID:10001541-1764765000-1764768600@ohsu-psu-sph.org
SUMMARY:Portland's Black Community & the Anti-Apartheid Movement Thinking Globally\, Acting Locally
DESCRIPTION:Part of the Black Bag Lecture Series 2025 \nExperience the inspiring story of Portland’s 1980s Anti-Apartheid Movement brought to life through powerful archival images and documents. Discover how local activists and communities united in the global fight against White supremacy in South Africa. This dynamic presentation connects past and present struggles for justice—an event you won’t want to miss. \nIn person: Millar Library\, Room ML-170 (LIBW Instruction 65)\nOn Zoom: pdx.zoom.us/j/86534260742
URL:https://ohsu-psu-sph.org/event/portlands-black-community-the-anti-apartheid-movement-thinking-globally-acting-locally/
LOCATION:Millar Library\, 1875 SW Park Ave\, Portland\, 97201\, United States
CATEGORIES:Lecture & Webinars,Social Justice
END:VEVENT
BEGIN:VEVENT
DTSTART;TZID=America/Los_Angeles:20251204T123000
DTEND;TZID=America/Los_Angeles:20251204T133000
DTSTAMP:20260419T173137
CREATED:20251111T190344Z
LAST-MODIFIED:20251111T190344Z
UID:10001540-1764851400-1764855000@ohsu-psu-sph.org
SUMMARY:PSU Credit & Debt Workshop Registration
DESCRIPTION:The Financial Wellness Center is partnering with Financial Beginnings to present this interactive workshop to gain a clear understanding of how credit\, debt\, and repayment impact your financial health. Learn how to assess your current financial situation\, manage debt effectively\, and develop a realistic plan for improving your credit and overall financial well-being. This session will equip you with practical tools and strategies to make confident\, informed financial decisions for a stronger future.
URL:https://ohsu-psu-sph.org/event/psu-credit-debt-workshop-registration/2025-12-04/
LOCATION:Fariborz Maseeh Hall\, Fariborz Maseeh Hall\, 1855 SW Broadway\, Portland\, 97201\, United States
CATEGORIES:PSU
END:VEVENT
BEGIN:VEVENT
DTSTART;TZID=America/Los_Angeles:20251205T120000
DTEND;TZID=America/Los_Angeles:20251205T133000
DTSTAMP:20260419T173137
CREATED:20251015T195232Z
LAST-MODIFIED:20251015T195232Z
UID:10001508-1764936000-1764941400@ohsu-psu-sph.org
SUMMARY:Virtual Graduate Admissions Info Session
DESCRIPTION:Join us for a virtual session to learn how the OHSU-PSU School of Public Health’s graduate programs can help you grow and make a difference in your community. Meet our admissions team\, get your questions answered\, and find out what makes our programs unique\, supportive\, and focused on helping you reach your professional goals. \nZoom Link: https://pdx.zoom.us/j/87551833727 \nREGSTIER FOR EVENT
URL:https://ohsu-psu-sph.org/event/virtual-graduate-admissions-info-session-dec-5/
LOCATION:VIRTUAL\, Portland\, OR\, United States
CATEGORIES:Admissions
END:VEVENT
END:VCALENDAR