BEGIN:VCALENDAR
VERSION:2.0
PRODID:-//OHSU-PSU School of Public Health - ECPv6.15.20//NONSGML v1.0//EN
CALSCALE:GREGORIAN
METHOD:PUBLISH
X-WR-CALNAME:OHSU-PSU School of Public Health
X-ORIGINAL-URL:https://ohsu-psu-sph.org
X-WR-CALDESC:Events for OHSU-PSU School of Public Health
REFRESH-INTERVAL;VALUE=DURATION:PT1H
X-Robots-Tag:noindex
X-PUBLISHED-TTL:PT1H
BEGIN:VTIMEZONE
TZID:America/Los_Angeles
BEGIN:DAYLIGHT
TZOFFSETFROM:-0800
TZOFFSETTO:-0700
TZNAME:PDT
DTSTART:20250309T100000
END:DAYLIGHT
BEGIN:STANDARD
TZOFFSETFROM:-0700
TZOFFSETTO:-0800
TZNAME:PST
DTSTART:20251102T090000
END:STANDARD
BEGIN:DAYLIGHT
TZOFFSETFROM:-0800
TZOFFSETTO:-0700
TZNAME:PDT
DTSTART:20260308T100000
END:DAYLIGHT
BEGIN:STANDARD
TZOFFSETFROM:-0700
TZOFFSETTO:-0800
TZNAME:PST
DTSTART:20261101T090000
END:STANDARD
BEGIN:DAYLIGHT
TZOFFSETFROM:-0800
TZOFFSETTO:-0700
TZNAME:PDT
DTSTART:20270314T100000
END:DAYLIGHT
BEGIN:STANDARD
TZOFFSETFROM:-0700
TZOFFSETTO:-0800
TZNAME:PST
DTSTART:20271107T090000
END:STANDARD
END:VTIMEZONE
BEGIN:VEVENT
DTSTART;TZID=America/Los_Angeles:20260529T163000
DTEND;TZID=America/Los_Angeles:20260529T180000
DTSTAMP:20260421T194140
CREATED:20260421T222853Z
LAST-MODIFIED:20260421T222853Z
UID:10001746-1780072200-1780077600@ohsu-psu-sph.org
SUMMARY:Self-Care Through Self-Expression
DESCRIPTION:We are a team from the Asian Health & Service Center that will be hosting an AAPI Heritage Month and Mental Health Awareness Month event catered toward college-aged students/young adults ages 18 to 25. We will be hosting a Grounding Workshop to create a space to discuss mental health and self-care in API communities\, creating grounding kits\, and sharing mental health resources for stress management.  \nWe hope that you’re able to join us on Friday May 29th\, 2026 from 4:30-6:00pm at the Asian Health & Service Center located at 9035 SE Foster Rd.\, Portland\, OR 97266! \nREGISTER FOR EVENT
URL:https://ohsu-psu-sph.org/event/self-care-through-self-expression/
LOCATION:Asian Health & Service Center\, 9035 SE Foster Rd.\, Portland\, 97266\, United States
CATEGORIES:Social Justice
END:VEVENT
END:VCALENDAR